
BEGIN:VCALENDAR
VERSION:2.0
PRODID:-//Unitarian Congregation of Guelph - ECPv6.14.1//NONSGML v1.0//EN
CALSCALE:GREGORIAN
METHOD:PUBLISH
X-WR-CALNAME:Unitarian Congregation of Guelph
X-ORIGINAL-URL:https://guelph-unitarians.com
X-WR-CALDESC:Events for Unitarian Congregation of Guelph
REFRESH-INTERVAL;VALUE=DURATION:PT1H
X-Robots-Tag:noindex
X-PUBLISHED-TTL:PT1H
BEGIN:VTIMEZONE
TZID:America/Toronto
BEGIN:DAYLIGHT
TZOFFSETFROM:-0500
TZOFFSETTO:-0400
TZNAME:EDT
DTSTART:20230312T070000
END:DAYLIGHT
BEGIN:STANDARD
TZOFFSETFROM:-0400
TZOFFSETTO:-0500
TZNAME:EST
DTSTART:20231105T060000
END:STANDARD
BEGIN:DAYLIGHT
TZOFFSETFROM:-0500
TZOFFSETTO:-0400
TZNAME:EDT
DTSTART:20240310T070000
END:DAYLIGHT
BEGIN:STANDARD
TZOFFSETFROM:-0400
TZOFFSETTO:-0500
TZNAME:EST
DTSTART:20241103T060000
END:STANDARD
END:VTIMEZONE
BEGIN:VEVENT
DTSTART;TZID=America/Toronto:20240217T133000
DTEND;TZID=America/Toronto:20240217T150000
DTSTAMP:20260424T153940
CREATED:20240124T224405Z
LAST-MODIFIED:20240124T224405Z
UID:1555-1708176600-1708182000@guelph-unitarians.com
SUMMARY:Peer Support Group for Parents of Neurodiverse Kids
DESCRIPTION:UCG’s Peer Parent support group for parents of kids with neurodiversity continues to meet on the third Saturday of every month at the same time until June. Holly will continue to lead the group on a volunteer basis. \nJoin us at UCG for snacks\, games and safe conversations. There is a Zoom option for those unable to attend in person. (Please let us know if you plan to attend this way so we can provide a link). Ash will be on hand with our junior RE staff to engage the kiddos in fun games and crafts so the big people can chatter. \nPlease let us know if there are any barriers preventing you from attending\, so that we can do our best to accommodate you and your little one. \nFor more information or to book a spot for your child in the children’s program\, please contact Holly Jones (she/her) admin@guelph-unitarians.com
URL:https://guelph-unitarians.com/event/peer-support-group-for-parents-of-neurodiverse-kids/
LOCATION:122 Harris St / Zoom
CATEGORIES:SmallGroupMinistry
ATTACH;FMTTYPE=image/jpeg:https://guelph-unitarians.com/wp-content/uploads/2022/09/teamwork_equality_multi-cultural_diversity.jpg
ORGANIZER;CN="Holly":MAILTO:admin@guelph-unitarians.com
END:VEVENT
BEGIN:VEVENT
DTSTART;TZID=America/Toronto:20231021T140000
DTEND;TZID=America/Toronto:20231021T153000
DTSTAMP:20260424T153940
CREATED:20231007T222052Z
LAST-MODIFIED:20231007T222238Z
UID:1229-1697896800-1697902200@guelph-unitarians.com
SUMMARY:Peer Parenting Group for Parents of Kids with Neurodiversity
DESCRIPTION:  \nJoin us at UCG for snacks\, games and safe conversations. There will be a Zoom option for those unable to attend in person. (Please let us know if you plan to attend this way so we can drop off supplies and provide a link). Ash will be on hand with our junior RE staff to engage the kiddos in fun games and crafts so the big people can chatter. \nLet us know if there are any barriers preventing you from attending\, so that we can brainstorm solutions together. \nThis program is open to all parents and guardians of neurodiverse kids; however\, for those who wish to participate outside the community we ask that you please touch base with us so that we can ensure that there is enough staff on hand. There is a fee of $0-$12 per family per afternoon (cost based on the Canadian Unitarian Council’s sliding scale model) for those attending from outside the UCG community. \nFor more information\, please contact Holly Jones (she/her) at adminATguelph-unitariansDOTcom
URL:https://guelph-unitarians.com/event/peer-parenting-group-for-parents-of-kids-with-neurodiversity/
LOCATION:122 Harris St / Zoom
CATEGORIES:SmallGroupMinistry
ATTACH;FMTTYPE=image/jpeg:https://guelph-unitarians.com/wp-content/uploads/2022/09/teamwork_equality_multi-cultural_diversity.jpg
ORGANIZER;CN="Holly":MAILTO:admin@guelph-unitarians.com
END:VEVENT
END:VCALENDAR