
BEGIN:VCALENDAR
VERSION:2.0
PRODID:-//Unitarian Congregation of Guelph - ECPv6.14.1//NONSGML v1.0//EN
CALSCALE:GREGORIAN
METHOD:PUBLISH
X-ORIGINAL-URL:https://guelph-unitarians.com
X-WR-CALDESC:Events for Unitarian Congregation of Guelph
REFRESH-INTERVAL;VALUE=DURATION:PT1H
X-Robots-Tag:noindex
X-PUBLISHED-TTL:PT1H
BEGIN:VTIMEZONE
TZID:America/Toronto
BEGIN:DAYLIGHT
TZOFFSETFROM:-0500
TZOFFSETTO:-0400
TZNAME:EDT
DTSTART:20240310T070000
END:DAYLIGHT
BEGIN:STANDARD
TZOFFSETFROM:-0400
TZOFFSETTO:-0500
TZNAME:EST
DTSTART:20241103T060000
END:STANDARD
END:VTIMEZONE
BEGIN:VEVENT
DTSTART;TZID=America/Toronto:20240208T190000
DTEND;TZID=America/Toronto:20240208T210000
DTSTAMP:20260424T154008
CREATED:20240124T223055Z
LAST-MODIFIED:20240207T231418Z
UID:1551-1707418800-1707426000@guelph-unitarians.com
SUMMARY:Annual Meeting
DESCRIPTION:Please try to join us as we give an overview to our members and friends about what has been happening over the last year and talk about our plans for the coming seasons! \nPlease email Admin@guelph-unitarians.com for a full Annual Meeting package including reports and information on how to vote by proxy. You can also use this email address to request a Zoom link. \n 
URL:https://guelph-unitarians.com/event/annual-meeting/
LOCATION:122 Harris St / Zoom
CATEGORIES:Congregational Meeting
ATTACH;FMTTYPE=image/jpeg:https://guelph-unitarians.com/wp-content/uploads/2023/03/chalice2.jpg
END:VEVENT
BEGIN:VEVENT
DTSTART;TZID=America/Toronto:20240124T190000
DTEND;TZID=America/Toronto:20240124T200000
DTSTAMP:20260424T154008
CREATED:20240124T220102Z
LAST-MODIFIED:20240124T220102Z
UID:1546-1706122800-1706126400@guelph-unitarians.com
SUMMARY:Congregational Meeting
DESCRIPTION:Please attend our upcoming Zoom Congregational meeting tonight at 7pm to: \n\nhear about the budget as it looks now\,\nfind out about the work that has gone on over the last year to tackle the issue BEFORE this budget was prepared\,\nsee the budget as it was prepared and where our major expenses are that we could adjust\,\nask questions and discuss the options the Board is considering adjusting so we can present a prudent and responsible budget for the coming year\,\nand provide your input.\n\nBased on this conversation\, the budget for the Annual Meeting will be adjusted if needed. The budget will then be presented as usual at our Annual Meeting for routine approval. The Annual Meeting will occur on February 8\, 2024 at 7pm in hybrid format. Please join us for this important discussion! \nFor the Zoom link\, please email admin@guelph-unitarians.com
URL:https://guelph-unitarians.com/event/congregational-meeting/
LOCATION:Zoom
CATEGORIES:Congregational Meeting
ATTACH;FMTTYPE=image/jpeg:https://guelph-unitarians.com/wp-content/uploads/2023/05/outside1-scaled.jpg
END:VEVENT
END:VCALENDAR